BEGIN:VCALENDAR
VERSION:2.0
METHOD:PUBLISH
X-PRIMARY-CALENDAR:TRUE
X-WR-CALNAME:Jets 2025-2026
PRODID:-//TMR Executive//NONSGML//EN
METHOD:REQUEST
BEGIN:VTIMEZONE
TZID:America/New_York
X-LIC-LOCATION:America/New_York
BEGIN:DAYLIGHT
TZOFFSETFROM:-0500
TZOFFSETTO:-0400
TZNAME:EDT
DTSTART:19700308T020000
RRULE:FREQ=YEARLY;BYMONTH=3;BYDAY=2SU
END:DAYLIGHT
BEGIN:STANDARD
TZOFFSETFROM:-0400
TZOFFSETTO:-0500
TZNAME:EST
DTSTART:19701101T020000
RRULE:FREQ=YEARLY;BYMONTH=11;BYDAY=1SU
END:STANDARD
END:VTIMEZONE
BEGIN:VEVENT
UID:game-1469-tmrexecutive.com
DTSTAMP;TZID="America/New_York":20260420T043315
DTSTART;TZID="America/New_York":20250903T210000
DTEND;TZID="America/New_York":20250903T223000
SUMMARY:Capitals @ Jets
END:VEVENT
BEGIN:VEVENT
UID:game-1473-tmrexecutive.com
DTSTAMP;TZID="America/New_York":20260420T043315
DTSTART;TZID="America/New_York":20250910T210000
DTEND;TZID="America/New_York":20250910T223000
SUMMARY:Predators @ Jets
END:VEVENT
BEGIN:VEVENT
UID:game-1476-tmrexecutive.com
DTSTAMP;TZID="America/New_York":20260420T043315
DTSTART;TZID="America/New_York":20250914T213000
DTEND;TZID="America/New_York":20250914T230000
SUMMARY:Jets @ Senators
END:VEVENT
BEGIN:VEVENT
UID:game-1478-tmrexecutive.com
DTSTAMP;TZID="America/New_York":20260420T043315
DTSTART;TZID="America/New_York":20250917T221500
DTEND;TZID="America/New_York":20250917T234500
SUMMARY:Jets @ Royals
END:VEVENT
BEGIN:VEVENT
UID:game-1479-tmrexecutive.com
DTSTAMP;TZID="America/New_York":20260420T043315
DTSTART;TZID="America/New_York":20250921T200000
DTEND;TZID="America/New_York":20250921T213000
SUMMARY:Jets @ Capitals
END:VEVENT
BEGIN:VEVENT
UID:game-1483-tmrexecutive.com
DTSTAMP;TZID="America/New_York":20260420T043315
DTSTART;TZID="America/New_York":20250928T200000
DTEND;TZID="America/New_York":20250928T213000
SUMMARY:Jets @ Predators
END:VEVENT
BEGIN:VEVENT
UID:game-1486-tmrexecutive.com
DTSTAMP;TZID="America/New_York":20260420T043315
DTSTART;TZID="America/New_York":20251001T221500
DTEND;TZID="America/New_York":20251001T234500
SUMMARY:Senators @ Jets
END:VEVENT
BEGIN:VEVENT
UID:game-1488-tmrexecutive.com
DTSTAMP;TZID="America/New_York":20260420T043315
DTSTART;TZID="America/New_York":20251005T213000
DTEND;TZID="America/New_York":20251005T230000
SUMMARY:Royals @ Jets
END:VEVENT
BEGIN:VEVENT
UID:game-1489-tmrexecutive.com
DTSTAMP;TZID="America/New_York":20260420T043315
DTSTART;TZID="America/New_York":20251008T210000
DTEND;TZID="America/New_York":20251008T223000
SUMMARY:Capitals @ Jets
END:VEVENT
BEGIN:VEVENT
UID:game-1493-tmrexecutive.com
DTSTAMP;TZID="America/New_York":20260420T043315
DTSTART;TZID="America/New_York":20251019T200000
DTEND;TZID="America/New_York":20251019T213000
SUMMARY:Predators @ Jets
END:VEVENT
BEGIN:VEVENT
UID:game-1496-tmrexecutive.com
DTSTAMP;TZID="America/New_York":20260420T043315
DTSTART;TZID="America/New_York":20251022T221500
DTEND;TZID="America/New_York":20251022T234500
SUMMARY:Jets @ Senators
END:VEVENT
BEGIN:VEVENT
UID:game-1498-tmrexecutive.com
DTSTAMP;TZID="America/New_York":20260420T043315
DTSTART;TZID="America/New_York":20251026T213000
DTEND;TZID="America/New_York":20251026T230000
SUMMARY:Jets @ Royals
END:VEVENT
BEGIN:VEVENT
UID:game-1499-tmrexecutive.com
DTSTAMP;TZID="America/New_York":20260420T043315
DTSTART;TZID="America/New_York":20251029T210000
DTEND;TZID="America/New_York":20251029T223000
SUMMARY:Capitals @ Jets
END:VEVENT
BEGIN:VEVENT
UID:game-1503-tmrexecutive.com
DTSTAMP;TZID="America/New_York":20260420T043315
DTSTART;TZID="America/New_York":20251105T210000
DTEND;TZID="America/New_York":20251105T223000
SUMMARY:Predators @ Jets
END:VEVENT
BEGIN:VEVENT
UID:game-1506-tmrexecutive.com
DTSTAMP;TZID="America/New_York":20260420T043315
DTSTART;TZID="America/New_York":20251109T213000
DTEND;TZID="America/New_York":20251109T230000
SUMMARY:Jets @ Senators
END:VEVENT
BEGIN:VEVENT
UID:game-1508-tmrexecutive.com
DTSTAMP;TZID="America/New_York":20260420T043315
DTSTART;TZID="America/New_York":20251112T221500
DTEND;TZID="America/New_York":20251112T234500
SUMMARY:Jets @ Royals
END:VEVENT
BEGIN:VEVENT
UID:game-1509-tmrexecutive.com
DTSTAMP;TZID="America/New_York":20260420T043315
DTSTART;TZID="America/New_York":20251116T200000
DTEND;TZID="America/New_York":20251116T213000
SUMMARY:Jets @ Capitals
END:VEVENT
BEGIN:VEVENT
UID:game-1515-tmrexecutive.com
DTSTAMP;TZID="America/New_York":20260420T043315
DTSTART;TZID="America/New_York":20251123T200000
DTEND;TZID="America/New_York":20251123T213000
SUMMARY:Jets @ Predators
END:VEVENT
BEGIN:VEVENT
UID:game-1517-tmrexecutive.com
DTSTAMP;TZID="America/New_York":20260420T043315
DTSTART;TZID="America/New_York":20251126T221500
DTEND;TZID="America/New_York":20251126T234500
SUMMARY:Senators @ Jets
END:VEVENT
BEGIN:VEVENT
UID:game-1519-tmrexecutive.com
DTSTAMP;TZID="America/New_York":20260420T043315
DTSTART;TZID="America/New_York":20251130T213000
DTEND;TZID="America/New_York":20251130T230000
SUMMARY:Royals @ Jets
END:VEVENT
BEGIN:VEVENT
UID:game-1520-tmrexecutive.com
DTSTAMP;TZID="America/New_York":20260420T043315
DTSTART;TZID="America/New_York":20251203T210000
DTEND;TZID="America/New_York":20251203T223000
SUMMARY:Jets @ Capitals
END:VEVENT
BEGIN:VEVENT
UID:game-1524-tmrexecutive.com
DTSTAMP;TZID="America/New_York":20260420T043315
DTSTART;TZID="America/New_York":20251210T210000
DTEND;TZID="America/New_York":20251210T223000
SUMMARY:Jets @ Predators
END:VEVENT
BEGIN:VEVENT
UID:game-1527-tmrexecutive.com
DTSTAMP;TZID="America/New_York":20260420T043315
DTSTART;TZID="America/New_York":20251214T213000
DTEND;TZID="America/New_York":20251214T230000
SUMMARY:Senators @ Jets
END:VEVENT
BEGIN:VEVENT
UID:game-1529-tmrexecutive.com
DTSTAMP;TZID="America/New_York":20260420T043315
DTSTART;TZID="America/New_York":20251217T221500
DTEND;TZID="America/New_York":20251217T234500
SUMMARY:Royals @ Jets
END:VEVENT
BEGIN:VEVENT
UID:game-1530-tmrexecutive.com
DTSTAMP;TZID="America/New_York":20260420T043315
DTSTART;TZID="America/New_York":20251221T200000
DTEND;TZID="America/New_York":20251221T213000
SUMMARY:Capitals @ Jets
END:VEVENT
BEGIN:VEVENT
UID:game-1533-tmrexecutive.com
DTSTAMP;TZID="America/New_York":20260420T043315
DTSTART;TZID="America/New_York":20260104T213000
DTEND;TZID="America/New_York":20260104T230000
SUMMARY:Jets @ Royals
END:VEVENT
BEGIN:VEVENT
UID:game-1537-tmrexecutive.com
DTSTAMP;TZID="America/New_York":20260420T043315
DTSTART;TZID="America/New_York":20260111T213000
DTEND;TZID="America/New_York":20260111T230000
SUMMARY:Jets @ Senators
END:VEVENT
BEGIN:VEVENT
UID:game-1538-tmrexecutive.com
DTSTAMP;TZID="America/New_York":20260420T043315
DTSTART;TZID="America/New_York":20260114T210000
DTEND;TZID="America/New_York":20260114T223000
SUMMARY:Predators @ Jets
END:VEVENT
BEGIN:VEVENT
UID:game-1540-tmrexecutive.com
DTSTAMP;TZID="America/New_York":20260420T043315
DTSTART;TZID="America/New_York":20260118T200000
DTEND;TZID="America/New_York":20260118T213000
SUMMARY:Jets @ Capitals
END:VEVENT
BEGIN:VEVENT
UID:game-1543-tmrexecutive.com
DTSTAMP;TZID="America/New_York":20260420T043315
DTSTART;TZID="America/New_York":20260121T221500
DTEND;TZID="America/New_York":20260121T234500
SUMMARY:Royals @ Jets
END:VEVENT
BEGIN:VEVENT
UID:game-1547-tmrexecutive.com
DTSTAMP;TZID="America/New_York":20260420T043315
DTSTART;TZID="America/New_York":20260128T221500
DTEND;TZID="America/New_York":20260128T234500
SUMMARY:Senators @ Jets
END:VEVENT
BEGIN:VEVENT
UID:game-1548-tmrexecutive.com
DTSTAMP;TZID="America/New_York":20260420T043315
DTSTART;TZID="America/New_York":20260201T200000
DTEND;TZID="America/New_York":20260201T213000
SUMMARY:Jets @ Predators
END:VEVENT
BEGIN:VEVENT
UID:game-1550-tmrexecutive.com
DTSTAMP;TZID="America/New_York":20260420T043315
DTSTART;TZID="America/New_York":20260204T210000
DTEND;TZID="America/New_York":20260204T223000
SUMMARY:Capitals @ Jets
END:VEVENT
BEGIN:VEVENT
UID:game-1553-tmrexecutive.com
DTSTAMP;TZID="America/New_York":20260420T043315
DTSTART;TZID="America/New_York":20260211T221500
DTEND;TZID="America/New_York":20260211T234500
SUMMARY:Jets @ Royals
END:VEVENT
BEGIN:VEVENT
UID:game-1557-tmrexecutive.com
DTSTAMP;TZID="America/New_York":20260420T043315
DTSTART;TZID="America/New_York":20260218T221500
DTEND;TZID="America/New_York":20260218T234500
SUMMARY:Jets @ Senators
END:VEVENT
BEGIN:VEVENT
UID:game-1558-tmrexecutive.com
DTSTAMP;TZID="America/New_York":20260420T043315
DTSTART;TZID="America/New_York":20260222T200000
DTEND;TZID="America/New_York":20260222T213000
SUMMARY:Predators @ Jets
END:VEVENT
BEGIN:VEVENT
UID:game-1560-tmrexecutive.com
DTSTAMP;TZID="America/New_York":20260420T043315
DTSTART;TZID="America/New_York":20260225T210000
DTEND;TZID="America/New_York":20260225T223000
SUMMARY:Jets @ Capitals
END:VEVENT
BEGIN:VEVENT
UID:game-1563-tmrexecutive.com
DTSTAMP;TZID="America/New_York":20260420T043315
DTSTART;TZID="America/New_York":20260308T213000
DTEND;TZID="America/New_York":20260308T230000
SUMMARY:Royals @ Jets
END:VEVENT
BEGIN:VEVENT
UID:game-1567-tmrexecutive.com
DTSTAMP;TZID="America/New_York":20260420T043315
DTSTART;TZID="America/New_York":20260315T213000
DTEND;TZID="America/New_York":20260315T230000
SUMMARY:Senators @ Jets
END:VEVENT
BEGIN:VEVENT
UID:game-1568-tmrexecutive.com
DTSTAMP;TZID="America/New_York":20260420T043315
DTSTART;TZID="America/New_York":20260318T210000
DTEND;TZID="America/New_York":20260318T223000
SUMMARY:Jets @ Predators
END:VEVENT
BEGIN:VEVENT
UID:game-1570-tmrexecutive.com
DTSTAMP;TZID="America/New_York":20260420T043315
DTSTART;TZID="America/New_York":20260322T200000
DTEND;TZID="America/New_York":20260322T213000
SUMMARY:Jets @ Capitals
END:VEVENT
BEGIN:VEVENT
UID:game-1573-tmrexecutive.com
DTSTAMP;TZID="America/New_York":20260420T043315
DTSTART;TZID="America/New_York":20260325T221500
DTEND;TZID="America/New_York":20260325T234500
SUMMARY:Royals @ Jets
END:VEVENT
BEGIN:VEVENT
UID:game-1577-tmrexecutive.com
DTSTAMP;TZID="America/New_York":20260420T043315
DTSTART;TZID="America/New_York":20260401T221500
DTEND;TZID="America/New_York":20260401T234500
SUMMARY:Jets @ Senators
END:VEVENT
BEGIN:VEVENT
UID:game-1578-tmrexecutive.com
DTSTAMP;TZID="America/New_York":20260420T043315
DTSTART;TZID="America/New_York":20260408T210000
DTEND;TZID="America/New_York":20260408T223000
SUMMARY:Jets @ Predators
END:VEVENT
BEGIN:VEVENT
UID:game-1584-tmrexecutive.com
DTSTAMP;TZID="America/New_York":20260420T043315
DTSTART;TZID="America/New_York":20260412T190000
DTEND;TZID="America/New_York":20260412T203000
SUMMARY:Jets @ Predators
END:VEVENT
X-CALSTART:20250903T210000
X-CALEND:20260412T203000
END:VCALENDAR
